BEGIN:VCALENDAR
VERSION:2.0
PRODID:-//SVP Luzern //NONSGML Events //EN
CALSCALE:GREGORIAN
X-WR-CALNAME:SVP Luzern
BEGIN:VEVENT
CREATED:20230525T043724Z
UID:27238
DTEND:20230626T200000
DTSTART:20230626T193000
DTSTAMP:20231024T055145Z
LOCATION:Rest. Rössli\, Knutwil
DESCRIPTION:
SUMMARY:Nominationsversammlung NR/SR des WK Sursee
ORGANIZER:Wahlkreis Sursee
URL;VALUE=URI:https://www.svp-lu.ch/termine/nominationsversammlung-nr-sr-des-wk-sursee/
TRANSP:OPAQUE
END:VEVENT
END:VCALENDAR
