BEGIN:VCALENDAR
VERSION:2.0
PRODID:-//SVP Luzern //NONSGML Events //EN
CALSCALE:GREGORIAN
X-WR-CALNAME:SVP Luzern
BEGIN:VEVENT
CREATED:20230530T170029Z
UID:27256
DTEND:20230614T200000
DTSTART:20230614T193000
DTSTAMP:20231024T060121Z
LOCATION:Zentrum Teufmatt\, Sitzungszimmer UG\, Adligenswil
DESCRIPTION:
SUMMARY:Nominationsversammlung Wahlkreis Luzern-Land
ORGANIZER:
URL;VALUE=URI:https://www.svp-lu.ch/termine/nv-eidgenoessische-wahlen-2023/
TRANSP:OPAQUE
END:VEVENT
END:VCALENDAR
