BEGIN:VCALENDAR
VERSION:2.0
PRODID:-//SVP Luzern //NONSGML Events //EN
CALSCALE:GREGORIAN
X-WR-CALNAME:SVP Luzern
BEGIN:VEVENT
CREATED:20230615T081614Z
UID:27364
DTEND:20230628T100000
DTSTART:20230628T090000
DTSTAMP:20231024T060223Z
LOCATION:
DESCRIPTION:Vor dem Regierungsgebäude treffen sich die Intitianten zur Übergabe 
SUMMARY:Tempo 50 Unterschriftenübergabe
ORGANIZER:
URL;VALUE=URI:https://www.svp-lu.ch/termine/tempo-50-unterschriftenuebergabe/
TRANSP:OPAQUE
END:VEVENT
END:VCALENDAR
