BEGIN:VCALENDAR
VERSION:2.0
PRODID:-//SVP Luzern //NONSGML Events //EN
CALSCALE:GREGORIAN
X-WR-CALNAME:SVP Luzern
BEGIN:VEVENT
CREATED:20230825T110747Z
UID:27908
DTEND:20230928T200000
DTSTART:20230928T193000
DTSTAMP:20231024T055727Z
LOCATION:Hotel Sonne\, Reiden
DESCRIPTION:
SUMMARY:Windenegie: Fluch oder Segen?
ORGANIZER:LWK Kanton Luzern
URL;VALUE=URI:https://www.svp-lu.ch/termine/windernegie-fluch-oder-segen/
TRANSP:OPAQUE
END:VEVENT
END:VCALENDAR
