BEGIN:VCALENDAR
VERSION:2.0
PRODID:-//SVP Luzern //NONSGML Events //EN
CALSCALE:GREGORIAN
X-WR-CALNAME:SVP Luzern
BEGIN:VEVENT
CREATED:20230914T075923Z
UID:28134
DTEND:20230927T200000
DTSTART:20230927T193000
DTSTAMP:20231024T060214Z
LOCATION:Hotel Kurhaus Heiligkreuz ob Hasle LU
DESCRIPTION:
SUMMARY:Podium &#8220\;Wolf im Berggebiet-Wie weiter?&#8221\;
ORGANIZER:SVP Wahlkreis Entlebuch
URL;VALUE=URI:https://www.svp-lu.ch/termine/podium-wolf-im-berggebiet-wie-weiter/
TRANSP:OPAQUE
END:VEVENT
END:VCALENDAR
