BEGIN:VCALENDAR
VERSION:2.0
PRODID:-//SVP Luzern //NONSGML Events //EN
CALSCALE:GREGORIAN
X-WR-CALNAME:SVP Luzern
BEGIN:VEVENT
CREATED:20231029T164744Z
UID:28698
DTEND:20241114T220000
DTSTART:20241114T193000
DTSTAMP:20260420T162539Z
LOCATION:BZG Emmenfeld\, Kirchfeldstrasse 23\, 6032 Emmen
DESCRIPTION:[gravityform id="40" title="true" description="true"]
SUMMARY:Ortsparteipräsidentenkonferenz inkl. Parteileitung
ORGANIZER:SVP Kanton Luzern
URL;VALUE=URI:https://www.svp-lu.ch/termine/ortsparteipraesidentenkonferenz-24/
TRANSP:OPAQUE
END:VEVENT
END:VCALENDAR
