BEGIN:VCALENDAR
VERSION:2.0
PRODID:-//SVP Luzern //NONSGML Events //EN
CALSCALE:GREGORIAN
X-WR-CALNAME:SVP Luzern
BEGIN:VEVENT
CREATED:20260130T091709Z
UID:33663
DTEND:20260325T190000
DTSTART:20260325T183000
DTSTAMP:20260421T090645Z
LOCATION:Horwer Halle
DESCRIPTION:
SUMMARY:EU Unterwerfungsvertrag
ORGANIZER:SVP Horw
URL;VALUE=URI:https://www.svp-lu.ch/termine/eu-unterwerfungsvertrag/
TRANSP:OPAQUE
END:VEVENT
END:VCALENDAR
