BEGIN:VCALENDAR
VERSION:2.0
PRODID:-//SVP Luzern //NONSGML Events //EN
CALSCALE:GREGORIAN
X-WR-CALNAME:SVP Luzern
BEGIN:VEVENT
CREATED:20180823T051400Z
UID:9005
DTEND:20180908T160000
DTSTART:20180908T100000
DTSTAMP:20231024T055322Z
LOCATION:Meierskappel
DESCRIPTION:
SUMMARY:20 Jahre SVP Meierskappel
ORGANIZER:
URL;VALUE=URI:https://www.svp-lu.ch/termine/20-jahre-svp-meierskappel/
TRANSP:OPAQUE
END:VEVENT
END:VCALENDAR
