BEGIN:VCALENDAR
VERSION:2.0
PRODID:-//SVP Luzern //NONSGML Events //EN
CALSCALE:GREGORIAN
X-WR-CALNAME:SVP Luzern
BEGIN:VEVENT
CREATED:20180924T025323Z
UID:9124
DTEND:20181009T200000
DTSTART:20181009T193000
DTSTAMP:20231024T055522Z
LOCATION:Rathaus Sursee\, 6210 Sursee
DESCRIPTION:
SUMMARY:Sessionsrückblick mit Yvette Estermann\, Franz Grüter und Felix Müri
ORGANIZER:
URL;VALUE=URI:https://www.svp-lu.ch/termine/sessionsrueckblick-mit-yvette-estermann-franz-grueter-und-felix-mueri/
TRANSP:OPAQUE
END:VEVENT
END:VCALENDAR
