BEGIN:VCALENDAR
VERSION:2.0
PRODID:-//SVP Luzern //NONSGML Events //EN
CALSCALE:GREGORIAN
X-WR-CALNAME:SVP Luzern
BEGIN:VEVENT
CREATED:20181017T105623Z
UID:9242
DTEND:20181026T190000
DTSTART:20181026T140000
DTSTAMP:20231024T055454Z
LOCATION:
DESCRIPTION:
SUMMARY:Parteileitung/Parteivorstand mit Sekretären
ORGANIZER:
URL;VALUE=URI:https://www.svp-lu.ch/termine/parteileitung-parteivorstand-mit-sekretaeren/
TRANSP:OPAQUE
END:VEVENT
END:VCALENDAR
