BEGIN:VCALENDAR
VERSION:2.0
PRODID:-//SVP Luzern //NONSGML Events //EN
CALSCALE:GREGORIAN
X-WR-CALNAME:SVP Luzern
BEGIN:VEVENT
CREATED:20181017T105623Z
UID:9243
DTEND:20180830T220000
DTSTART:20180830T200000
DTSTAMP:20231024T055301Z
LOCATION:WK Willisau
DESCRIPTION:
SUMMARY:Kant. Delegiertenversammlung
ORGANIZER:
URL;VALUE=URI:https://www.svp-lu.ch/termine/kant-delegiertenversammlung/
TRANSP:OPAQUE
END:VEVENT
END:VCALENDAR
