BEGIN:VCALENDAR
VERSION:2.0
PRODID:-//SVP Luzern //NONSGML Events //EN
CALSCALE:GREGORIAN
X-WR-CALNAME:SVP Luzern
BEGIN:VEVENT
CREATED:20181017T105623Z
UID:9245
DTEND:20181108T220000
DTSTART:20181108T200000
DTSTAMP:20231024T055823Z
LOCATION:WK Entlebuch
DESCRIPTION:
SUMMARY:Kant. Delegiertenversammlung
ORGANIZER:
URL;VALUE=URI:https://www.svp-lu.ch/termine/kant-delegiertenversammlung-2/
TRANSP:OPAQUE
END:VEVENT
END:VCALENDAR
