BEGIN:VCALENDAR
VERSION:2.0
PRODID:-//SVP Luzern //NONSGML Events //EN
CALSCALE:GREGORIAN
X-WR-CALNAME:SVP Luzern
BEGIN:VEVENT
CREATED:20181017T105623Z
UID:9246
DTEND:20181116T190000
DTSTART:20181116T140000
DTSTAMP:20231024T060305Z
LOCATION:Bern
DESCRIPTION:
SUMMARY:Fraktionsvorstand/Fraktionssitzung
ORGANIZER:
URL;VALUE=URI:https://www.svp-lu.ch/termine/fraktionsvorstand-fraktionssitzung/
TRANSP:OPAQUE
END:VEVENT
END:VCALENDAR
