BEGIN:VCALENDAR
VERSION:2.0
PRODID:-//SVP Luzern //NONSGML Events //EN
CALSCALE:GREGORIAN
X-WR-CALNAME:SVP Luzern
BEGIN:VEVENT
CREATED:20181017T105623Z
UID:9247
DTEND:20181117T120000
DTSTART:20181116T180000
DTSTAMP:20231024T060310Z
LOCATION:Bern
DESCRIPTION:
SUMMARY:Fraktionssitzung
ORGANIZER:
URL;VALUE=URI:https://www.svp-lu.ch/termine/fraktionssitzung/
TRANSP:OPAQUE
END:VEVENT
END:VCALENDAR
