BEGIN:VCALENDAR
VERSION:2.0
PRODID:-//SVP Luzern //NONSGML Events //EN
CALSCALE:GREGORIAN
X-WR-CALNAME:SVP Luzern
BEGIN:VEVENT
CREATED:20181017T105623Z
UID:9248
DTEND:20181122T220000
DTSTART:20181122T193000
DTSTAMP:20231024T060104Z
LOCATION:Rest. Vogelsang\, Eich
DESCRIPTION:
SUMMARY:Sitzung Parteileitung
ORGANIZER:
URL;VALUE=URI:https://www.svp-lu.ch/termine/sitzung-parteileitung-2/
TRANSP:OPAQUE
END:VEVENT
END:VCALENDAR
