BEGIN:VCALENDAR
VERSION:2.0
PRODID:-//SVP Luzern //NONSGML Events //EN
CALSCALE:GREGORIAN
X-WR-CALNAME:SVP Luzern
BEGIN:VEVENT
CREATED:20181017T105623Z
UID:9249
DTEND:20181125T235900
DTSTART:20181125T000000
DTSTAMP:20231024T055804Z
LOCATION:
DESCRIPTION:
SUMMARY:Eidg. und Kant. Abstimmungen
ORGANIZER:
URL;VALUE=URI:https://www.svp-lu.ch/termine/eidg-und-kant-abstimmungen/
TRANSP:OPAQUE
END:VEVENT
END:VCALENDAR
