BEGIN:VCALENDAR
VERSION:2.0
PRODID:-//SVP Luzern //NONSGML Events //EN
CALSCALE:GREGORIAN
X-WR-CALNAME:SVP Luzern
BEGIN:VEVENT
CREATED:20181017T105623Z
UID:9250
DTEND:20181214T235900
DTSTART:20181126T000000
DTSTAMP:20231024T055715Z
LOCATION:Bern
DESCRIPTION:
SUMMARY:Session National- und Ständerat
ORGANIZER:
URL;VALUE=URI:https://www.svp-lu.ch/termine/session-national-und-staenderat/
TRANSP:OPAQUE
END:VEVENT
END:VCALENDAR
