BEGIN:VCALENDAR
VERSION:2.0
PRODID:-//SVP Luzern //NONSGML Events //EN
CALSCALE:GREGORIAN
X-WR-CALNAME:SVP Luzern
BEGIN:VEVENT
CREATED:20181017T105624Z
UID:9253
DTEND:20181129T220000
DTSTART:20181129T200000
DTSTAMP:20231024T055606Z
LOCATION:WK Stadt Luzern
DESCRIPTION:
SUMMARY:Ortsparteipräsidentenkonferenz inkl. Parteileitung (UBS-Luzern)
ORGANIZER:
URL;VALUE=URI:https://www.svp-lu.ch/termine/ortsparteipraesidentenkonferenz-inkl-parteileitung-ubs-luzern/
TRANSP:OPAQUE
END:VEVENT
END:VCALENDAR
