BEGIN:VCALENDAR
VERSION:2.0
PRODID:-//SVP Luzern //NONSGML Events //EN
CALSCALE:GREGORIAN
X-WR-CALNAME:SVP Luzern
BEGIN:VEVENT
CREATED:20181017T105624Z
UID:9254
DTEND:20181204T235900
DTSTART:20181203T000000
DTSTAMP:20231024T055659Z
LOCATION:Luzern
DESCRIPTION:
SUMMARY:Session Kantonsrat
ORGANIZER:
URL;VALUE=URI:https://www.svp-lu.ch/termine/session-kantonsrat-3/
TRANSP:OPAQUE
END:VEVENT
END:VCALENDAR
