BEGIN:VCALENDAR
VERSION:2.0
PRODID:-//SVP Luzern //NONSGML Events //EN
CALSCALE:GREGORIAN
X-WR-CALNAME:SVP Luzern
BEGIN:VEVENT
CREATED:20181017T105624Z
UID:9255
DTEND:20181204T190000
DTSTART:20181204T140000
DTSTAMP:20231024T055342Z
LOCATION:Bern
DESCRIPTION:
SUMMARY:Fraktionsvorstand/Fraktionssitzung
ORGANIZER:
URL;VALUE=URI:https://www.svp-lu.ch/termine/fraktionsvorstand-fraktionssitzung-3/
TRANSP:OPAQUE
END:VEVENT
END:VCALENDAR
