BEGIN:VCALENDAR
VERSION:2.0
PRODID:-//SVP Luzern //NONSGML Events //EN
CALSCALE:GREGORIAN
X-WR-CALNAME:SVP Luzern
BEGIN:VEVENT
CREATED:20181017T105624Z
UID:9257
DTEND:20181205T220000
DTSTART:20181205T180000
DTSTAMP:20231024T055400Z
LOCATION:Bern
DESCRIPTION:
SUMMARY:Fraktionsessen
ORGANIZER:
URL;VALUE=URI:https://www.svp-lu.ch/termine/fraktionsessen/
TRANSP:OPAQUE
END:VEVENT
END:VCALENDAR
