BEGIN:VCALENDAR
VERSION:2.0
PRODID:-//SVP Luzern //NONSGML Events //EN
CALSCALE:GREGORIAN
X-WR-CALNAME:SVP Luzern
BEGIN:VEVENT
CREATED:20181017T105624Z
UID:9258
DTEND:20181211T220000
DTSTART:20181211T180000
DTSTAMP:20231024T055847Z
LOCATION:Bern
DESCRIPTION:
SUMMARY:ev. Fraktionssitzung
ORGANIZER:
URL;VALUE=URI:https://www.svp-lu.ch/termine/ev-fraktionssitzung/
TRANSP:OPAQUE
END:VEVENT
END:VCALENDAR
