BEGIN:VCALENDAR
VERSION:2.0
PRODID:-//SVP Luzern //NONSGML Events //EN
CALSCALE:GREGORIAN
X-WR-CALNAME:SVP Luzern
BEGIN:VEVENT
CREATED:20181017T105624Z
UID:9259
DTEND:20181213T220000
DTSTART:20181213T193000
DTSTAMP:20260420T131148Z
LOCATION:Rest. Vogelsang\, Eich
DESCRIPTION:
SUMMARY:Sitzung Parteileitung
ORGANIZER:
URL;VALUE=URI:https://www.svp-lu.ch/termine/sitzung-parteileitung-3/
TRANSP:OPAQUE
END:VEVENT
END:VCALENDAR
